BEGIN:VCALENDAR
VERSION:2.0
PRODID:-//ChatGPT//Trummers in Neukirchen//DE
CALSCALE:GREGORIAN
X-WR-CALNAME:Trummers in Neukirchen
X-WR-TIMEZONE:Europe/Berlin

BEGIN:VEVENT
UID:saturday-2026@Trummers
DTSTART;TZID=Europe/Berlin:20260117T090000
DTEND;TZID=Europe/Berlin:20260117T120000
RRULE:FREQ=WEEKLY;INTERVAL=2;BYDAY=SA;UNTIL=20261219T120000
EXDATE;TZID=Europe/Berlin:20260815T090000
EXDATE;TZID=Europe/Berlin:20261003T090000
SUMMARY:Trummers in Neukirchen
LOCATION:Neukirchner Hof, Hauptstraße 4, 92259 Neukirchen bei Sulzbach-Rosenberg
GEO:49.5275261590599;11.62389250132539
DESCRIPTION:Produkte: Kartoffeln, Knoblauch, Zwiebeln, Honig, Eier
CONTACT:info@trummers.de
URL:https://www.trummers.de
END:VEVENT

END:VCALENDAR
