BEGIN:VCALENDAR
VERSION:2.0
PRODID:-//ChatGPT//Trummers beim Amberger Bauernmarkt//DE
CALSCALE:GREGORIAN
X-WR-CALNAME:Trummers beim Amberger Bauernmarkt
X-WR-TIMEZONE:Europe/Berlin

BEGIN:VEVENT
UID:friday-2026@Trummers
DTSTART;TZID=Europe/Berlin:20260116T080000
DTEND;TZID=Europe/Berlin:20260116T123000
RRULE:FREQ=WEEKLY;BYDAY=FR;UNTIL=20261218T123000
EXDATE;TZID=Europe/Berlin:20260403T080000
EXDATE;TZID=Europe/Berlin:20260501T080000
SUMMARY:Trummers beim Amberger Bauernmarkt
LOCATION:Marktplatz, 92224 Amberg
GEO:49.44530;11.85819
DESCRIPTION:Produkte: Kartoffeln, Knoblauch, Zwiebeln, Honig
CONTACT:info@trummers.de
URL:https://www.trummers.de
END:VEVENT

BEGIN:VEVENT
UID:karfreitag-ersatz-2026@Trummers
DTSTART;TZID=Europe/Berlin:20260402T080000
DTEND;TZID=Europe/Berlin:20260402T123000
SUMMARY:Trummers beim Amberger Bauernmarkt
LOCATION:Marktplatz, 92224 Amberg
GEO:49.44530;11.85819
DESCRIPTION:Produkte: Kartoffeln, Knoblauch, Zwiebeln, Honig – verlegt (statt Karfreitag)
CONTACT:info@trummers.de
URL:https://www.trummers.de
END:VEVENT

BEGIN:VEVENT
UID:maifeiertag-ersatz-2026@Trummers
DTSTART;TZID=Europe/Berlin:20260430T080000
DTEND;TZID=Europe/Berlin:20260430T123000
SUMMARY:Trummers beim Amberger Bauernmarkt
LOCATION:Marktplatz, 92224 Amberg
GEO:49.44530;11.85819
DESCRIPTION:Produkte: Kartoffeln, Knoblauch, Zwiebeln, Honig – verlegt (statt 01.05.)
CONTACT:info@trummers.de
URL:https://www.trummers.de
END:VEVENT

END:VCALENDAR
